BEGIN:VCALENDAR
VERSION:2.0
PRODID:-//Village of Waterville - ECPv6.15.20//NONSGML v1.0//EN
CALSCALE:GREGORIAN
METHOD:PUBLISH
X-WR-CALNAME:Village of Waterville
X-ORIGINAL-URL:https://www.villageofwaterville.org
X-WR-CALDESC:Events for Village of Waterville
REFRESH-INTERVAL;VALUE=DURATION:PT1H
X-Robots-Tag:noindex
X-PUBLISHED-TTL:PT1H
BEGIN:VTIMEZONE
TZID:UTC
BEGIN:STANDARD
TZOFFSETFROM:+0000
TZOFFSETTO:+0000
TZNAME:UTC
DTSTART:20230101T000000
END:STANDARD
END:VTIMEZONE
BEGIN:VEVENT
DTSTART;VALUE=DATE:20241125
DTEND;VALUE=DATE:20241126
DTSTAMP:20260425T180309
CREATED:20241016T134614Z
LAST-MODIFIED:20241016T134619Z
UID:10001000-1732492800-1732579199@www.villageofwaterville.org
SUMMARY:Garbage Pickup
DESCRIPTION:
URL:https://villageofwaterville.gov/event/garbage-pickup-6/
LOCATION:NY
CATEGORIES:DPW
END:VEVENT
BEGIN:VEVENT
DTSTART;TZID=UTC:20241125T190000
DTEND;TZID=UTC:20241125T200000
DTSTAMP:20260425T180309
CREATED:20241016T134706Z
LAST-MODIFIED:20241016T134712Z
UID:10001001-1732561200-1732564800@www.villageofwaterville.org
SUMMARY:Village Board Meeting
DESCRIPTION:
URL:https://villageofwaterville.gov/event/village-board-meeting-13/
LOCATION:Village Hall\, 122 Barton Ave\, Waterville\, NY\, 13480\, United States
CATEGORIES:Village Board
END:VEVENT
END:VCALENDAR