BEGIN:VCALENDAR
VERSION:2.0
PRODID:-//Village of Waterville - ECPv6.15.20//NONSGML v1.0//EN
CALSCALE:GREGORIAN
METHOD:PUBLISH
X-WR-CALNAME:Village of Waterville
X-ORIGINAL-URL:https://www.villageofwaterville.org
X-WR-CALDESC:Events for Village of Waterville
REFRESH-INTERVAL;VALUE=DURATION:PT1H
X-Robots-Tag:noindex
X-PUBLISHED-TTL:PT1H
BEGIN:VTIMEZONE
TZID:UTC
BEGIN:STANDARD
TZOFFSETFROM:+0000
TZOFFSETTO:+0000
TZNAME:UTC
DTSTART:20230101T000000
END:STANDARD
END:VTIMEZONE
BEGIN:VEVENT
DTSTART;VALUE=DATE:20241128
DTEND;VALUE=DATE:20241129
DTSTAMP:20260425T143124
CREATED:20241016T134853Z
LAST-MODIFIED:20241016T134858Z
UID:10001003-1732752000-1732838399@www.villageofwaterville.org
SUMMARY:Thanksgiving
DESCRIPTION:All offices closed. Garbage pickup will be Friday\, Nov. 29th.
URL:https://villageofwaterville.gov/event/thanksgiving/
LOCATION:NY
END:VEVENT
END:VCALENDAR