BEGIN:VCALENDAR
VERSION:2.0
PRODID:-//Village of Waterville - ECPv6.15.20//NONSGML v1.0//EN
CALSCALE:GREGORIAN
METHOD:PUBLISH
X-ORIGINAL-URL:https://www.villageofwaterville.org
X-WR-CALDESC:Events for Village of Waterville
REFRESH-INTERVAL;VALUE=DURATION:PT1H
X-Robots-Tag:noindex
X-PUBLISHED-TTL:PT1H
BEGIN:VTIMEZONE
TZID:UTC
BEGIN:STANDARD
TZOFFSETFROM:+0000
TZOFFSETTO:+0000
TZNAME:UTC
DTSTART:20230101T000000
END:STANDARD
END:VTIMEZONE
BEGIN:VEVENT
DTSTART;VALUE=DATE:20241212
DTEND;VALUE=DATE:20241213
DTSTAMP:20260424T193837
CREATED:20241016T141531Z
LAST-MODIFIED:20241016T141538Z
UID:10001013-1733961600-1734047999@www.villageofwaterville.org
SUMMARY:Garbage Pickup
DESCRIPTION:
URL:https://villageofwaterville.gov/event/garbage-pickup-11/
LOCATION:NY
CATEGORIES:DPW
END:VEVENT
END:VCALENDAR