BEGIN:VCALENDAR
VERSION:2.0
PRODID:-//Village of Waterville - ECPv6.15.20//NONSGML v1.0//EN
CALSCALE:GREGORIAN
METHOD:PUBLISH
X-WR-CALNAME:Village of Waterville
X-ORIGINAL-URL:https://www.villageofwaterville.org
X-WR-CALDESC:Events for Village of Waterville
REFRESH-INTERVAL;VALUE=DURATION:PT1H
X-Robots-Tag:noindex
X-PUBLISHED-TTL:PT1H
BEGIN:VTIMEZONE
TZID:UTC
BEGIN:STANDARD
TZOFFSETFROM:+0000
TZOFFSETTO:+0000
TZNAME:UTC
DTSTART:20230101T000000
END:STANDARD
END:VTIMEZONE
BEGIN:VEVENT
DTSTART;VALUE=DATE:20241225
DTEND;VALUE=DATE:20241226
DTSTAMP:20260423T225933
CREATED:20241016T142257Z
LAST-MODIFIED:20241016T142304Z
UID:10001019-1735084800-1735171199@www.villageofwaterville.org
SUMMARY:Christmas
DESCRIPTION:Village offices closed.  Recycling will be picked up Thursday\, Dec. 26th. Garbage will be picked up Friday\, Dec. 27th.
URL:https://villageofwaterville.gov/event/christmas/
LOCATION:NY
END:VEVENT
END:VCALENDAR