BEGIN:VCALENDAR
VERSION:2.0
PRODID:-//Village of Waterville - ECPv6.15.20//NONSGML v1.0//EN
CALSCALE:GREGORIAN
METHOD:PUBLISH
X-WR-CALNAME:Village of Waterville
X-ORIGINAL-URL:https://www.villageofwaterville.org
X-WR-CALDESC:Events for Village of Waterville
REFRESH-INTERVAL;VALUE=DURATION:PT1H
X-Robots-Tag:noindex
X-PUBLISHED-TTL:PT1H
BEGIN:VTIMEZONE
TZID:UTC
BEGIN:STANDARD
TZOFFSETFROM:+0000
TZOFFSETTO:+0000
TZNAME:UTC
DTSTART:20240101T000000
END:STANDARD
END:VTIMEZONE
BEGIN:VEVENT
DTSTART;VALUE=DATE:20250130
DTEND;VALUE=DATE:20250131
DTSTAMP:20260419T210733
CREATED:20241210T163931Z
LAST-MODIFIED:20241210T164256Z
UID:10001040-1738195200-1738281599@www.villageofwaterville.org
SUMMARY:Garbage Pickup
DESCRIPTION:
URL:https://villageofwaterville.gov/event/garbage-pickup-26/
LOCATION:NY
CATEGORIES:DPW
END:VEVENT
BEGIN:VEVENT
DTSTART;TZID=UTC:20250130T080000
DTEND;TZID=UTC:20250130T160000
DTSTAMP:20260419T210733
CREATED:20241210T164554Z
LAST-MODIFIED:20241210T164559Z
UID:10001042-1738224000-1738252800@www.villageofwaterville.org
SUMMARY:Utility Bills Due
DESCRIPTION:
URL:https://villageofwaterville.gov/event/utility-bills-due-3/
LOCATION:Village Hall\, 122 Barton Ave\, Waterville\, NY\, 13480\, United States
END:VEVENT
END:VCALENDAR